BEGIN:VCALENDAR
VERSION:2.0
PRODID:-//Charlee&#039;s Ice Cream - Camillus, NY - ECPv6.15.20//NONSGML v1.0//EN
CALSCALE:GREGORIAN
METHOD:PUBLISH
X-ORIGINAL-URL:https://charleesicecream.com
X-WR-CALDESC:Events for Charlee&#039;s Ice Cream - Camillus, NY
REFRESH-INTERVAL;VALUE=DURATION:PT1H
X-Robots-Tag:noindex
X-PUBLISHED-TTL:PT1H
BEGIN:VTIMEZONE
TZID:America/New_York
BEGIN:DAYLIGHT
TZOFFSETFROM:-0500
TZOFFSETTO:-0400
TZNAME:EDT
DTSTART:20250309T070000
END:DAYLIGHT
BEGIN:STANDARD
TZOFFSETFROM:-0400
TZOFFSETTO:-0500
TZNAME:EST
DTSTART:20251102T060000
END:STANDARD
BEGIN:DAYLIGHT
TZOFFSETFROM:-0500
TZOFFSETTO:-0400
TZNAME:EDT
DTSTART:20260308T070000
END:DAYLIGHT
BEGIN:STANDARD
TZOFFSETFROM:-0400
TZOFFSETTO:-0500
TZNAME:EST
DTSTART:20261101T060000
END:STANDARD
BEGIN:DAYLIGHT
TZOFFSETFROM:-0500
TZOFFSETTO:-0400
TZNAME:EDT
DTSTART:20270314T070000
END:DAYLIGHT
BEGIN:STANDARD
TZOFFSETFROM:-0400
TZOFFSETTO:-0500
TZNAME:EST
DTSTART:20271107T060000
END:STANDARD
END:VTIMEZONE
BEGIN:VEVENT
DTSTART;TZID=America/New_York:20260321T120000
DTEND;TZID=America/New_York:20260321T130000
DTSTAMP:20260423T100923
CREATED:20260224T192918Z
LAST-MODIFIED:20260224T192918Z
UID:1778-1774094400-1774098000@charleesicecream.com
SUMMARY:Children's Ice Cream Cake Decorating- Easter Bunny Cakes
DESCRIPTION:Each ticket will decorate a 4 inch traditional cake (one layer chocolate\, one layer of vanilla\, with chocolate crunchies to the center). Recommended ages 5+\, younger with parental support. \nPlease private message us if you would like to sit with friends!No refunds or credits. In the event you are unable to attend you may transfer your ticket to another guest or request your project as a DIY kit to be picked up within 7 days after the event.If this sells out we will have a waitlist. Please contact us to be added or if you are selling a ticket and we will put you in touch with a buyer if available. \nSevere WeatherUpstate NY is no stranger to snowy weather! Please monitor the weather and plan accordingly for travel (leave yourself time for shoveling the driveway or driving slower). Our staff travels from all over the state with varying weather conditions and we take that into consideration. In the event of a Severe National Weather Service Warning with forecaster confidence of over 80%\, or if a State of Emergency is declared with no unnecessary travel by the governor we will contact all Guests via email regarding the event status and potential for refunds. \nIllness \n‘Tis the season for sickness! We cannot issue any refunds/credits due to illness because the food/supplies purchased to accommodate your ticket cannot be returned/refunded/credited. If someone in your party is feeling under the weather and will no longer be attending\, please send us an email; we will respond in 1-3 business days with options.
URL:https://charleesicecream.com/events-calendar/childrens-ice-cream-cake-decorating-easter-bunny-cakes/
END:VEVENT
BEGIN:VEVENT
DTSTART;TZID=America/New_York:20260323T180000
DTEND;TZID=America/New_York:20260323T193000
DTSTAMP:20260423T100923
CREATED:20260205T181607Z
LAST-MODIFIED:20260205T181607Z
UID:1740-1774288800-1774294200@charleesicecream.com
SUMMARY:Adult Ice Cream Cake Decorating
DESCRIPTION:Join us at Charlee’s Ice Cream for this in person\, adult ice cream cake decorating class! This class will be taught by Melanie\, owner of Sugar Rush Boutique! Melanie will be teaching various spring flower decorating techniques. All materials will be provided! We will be decorating 6 inch round ice cream cakes. Each cake is one layer of vanilla\, one layer of chocolate\, with chocolate crunchies to the center. Cakes feed up to 8 people\, perfect for spring celebrations! Cakes will be boxed up at the end of the class for easy transport! Please message us privately if you would like to sit with a friend or are a part of a group.
URL:https://charleesicecream.com/events-calendar/adult-ice-cream-cake-decorating/
END:VEVENT
BEGIN:VEVENT
DTSTART;TZID=America/New_York:20260324T080000
DTEND;TZID=America/New_York:20260324T170000
DTSTAMP:20260423T100923
CREATED:20260324T133844Z
LAST-MODIFIED:20260324T133844Z
UID:1784-1774339200-1774371600@charleesicecream.com
SUMMARY:Children's Cupcake Decorating- Easter Cupcakes!
DESCRIPTION:Spring Break Session:Join us in person for this super fun in Easter cupcake decorating event! Each ticket covers 6 cupcakes\, 3 vanilla\, 3 chocolate\, and all materials required to decorate. Take home container provided. Please message us if you would like to sit with friends. Space is limited! \nRegister Here: https://www.eventbrite.com/e/childrens-ice-cream-cupcake-decorating-easter-cupcakes-tickets-1985816297001?aff=oddtdtcreator
URL:https://charleesicecream.com/events-calendar/childrens-cupcake-decorating-easter-cupcakes/
END:VEVENT
END:VCALENDAR