BEGIN:VCALENDAR
VERSION:2.0
PRODID:-//Charlee&#039;s Ice Cream - Camillus, NY - ECPv6.15.20//NONSGML v1.0//EN
CALSCALE:GREGORIAN
METHOD:PUBLISH
X-WR-CALNAME:Charlee&#039;s Ice Cream - Camillus, NY
X-ORIGINAL-URL:https://charleesicecream.com
X-WR-CALDESC:Events for Charlee&#039;s Ice Cream - Camillus, NY
REFRESH-INTERVAL;VALUE=DURATION:PT1H
X-Robots-Tag:noindex
X-PUBLISHED-TTL:PT1H
BEGIN:VTIMEZONE
TZID:America/New_York
BEGIN:DAYLIGHT
TZOFFSETFROM:-0500
TZOFFSETTO:-0400
TZNAME:EDT
DTSTART:20220313T070000
END:DAYLIGHT
BEGIN:STANDARD
TZOFFSETFROM:-0400
TZOFFSETTO:-0500
TZNAME:EST
DTSTART:20221106T060000
END:STANDARD
BEGIN:DAYLIGHT
TZOFFSETFROM:-0500
TZOFFSETTO:-0400
TZNAME:EDT
DTSTART:20230312T070000
END:DAYLIGHT
BEGIN:STANDARD
TZOFFSETFROM:-0400
TZOFFSETTO:-0500
TZNAME:EST
DTSTART:20231105T060000
END:STANDARD
BEGIN:DAYLIGHT
TZOFFSETFROM:-0500
TZOFFSETTO:-0400
TZNAME:EDT
DTSTART:20240310T070000
END:DAYLIGHT
BEGIN:STANDARD
TZOFFSETFROM:-0400
TZOFFSETTO:-0500
TZNAME:EST
DTSTART:20241103T060000
END:STANDARD
BEGIN:DAYLIGHT
TZOFFSETFROM:-0500
TZOFFSETTO:-0400
TZNAME:EDT
DTSTART:20250309T070000
END:DAYLIGHT
BEGIN:STANDARD
TZOFFSETFROM:-0400
TZOFFSETTO:-0500
TZNAME:EST
DTSTART:20251102T060000
END:STANDARD
BEGIN:DAYLIGHT
TZOFFSETFROM:-0500
TZOFFSETTO:-0400
TZNAME:EDT
DTSTART:20260308T070000
END:DAYLIGHT
BEGIN:STANDARD
TZOFFSETFROM:-0400
TZOFFSETTO:-0500
TZNAME:EST
DTSTART:20261101T060000
END:STANDARD
BEGIN:DAYLIGHT
TZOFFSETFROM:-0500
TZOFFSETTO:-0400
TZNAME:EDT
DTSTART:20270314T070000
END:DAYLIGHT
BEGIN:STANDARD
TZOFFSETFROM:-0400
TZOFFSETTO:-0500
TZNAME:EST
DTSTART:20271107T060000
END:STANDARD
END:VTIMEZONE
BEGIN:VEVENT
DTSTART;TZID=America/New_York:20260228T130000
DTEND;TZID=America/New_York:20260228T140000
DTSTAMP:20260423T132722
CREATED:20260210T165147Z
LAST-MODIFIED:20260223T174231Z
UID:1773-1772283600-1772287200@charleesicecream.com
SUMMARY:February Break Children's Class: Lucky Charm Cake
DESCRIPTION:Each ticket will decorate a 4 inch traditional cake (one layer chocolate\, one layer of vanilla\, with chocolate crunchies to the center). Recommended ages 5+\, younger with parental support.Please private message us if you would like to sit with friends!No refunds or credits. In the event you are unable to attend you may transfer your ticket to another guest or request your project as a DIY kit to be picked up within 7 days after the event.If this sells out we will have a waitlist. Please contact us to be added or if you are selling a ticket and we will put you in touch with a buyer if available.Severe WeatherUpstate NY is no stranger to snowy weather! Please monitor the weather and plan accordingly for travel (leave yourself time for shoveling the driveway or driving slower). Our staff travels from all over the state with varying weather conditions and we take that into consideration. In the event of a Severe National Weather Service Warning with forecaster confidence of over 80%\, or if a State of Emergency is declared with no unnecessary travel by the governor we will contact all Guests via email regarding the event status and potential for refunds.Illness‘Tis the season for sickness! We cannot issue any refunds/credits due to illness because the food/supplies purchased to accommodate your ticket cannot be returned/refunded/credited. If someone in your party is feeling under the weather and will no longer be attending\, please send us an email; we will respond in 1-3 business days with options. If someone in your party is feeling under the weather but will still be attending\, we ask that you use your best judgment and mask-up if necessary to protect our performers and other guest \nSign up: https://www.eventbrite.com/e/february-break-kids-class-lucky-charm-ice-cream-cake-tickets-1982793267037?aff=oddtdtcreator
URL:https://charleesicecream.com/events-calendar/february-break-childrens-class-lucky-charm-cake/
END:VEVENT
BEGIN:VEVENT
DTSTART;TZID=America/New_York:20260220T130000
DTEND;TZID=America/New_York:20260220T140000
DTSTAMP:20260423T132722
CREATED:20260205T182954Z
LAST-MODIFIED:20260205T182954Z
UID:1757-1771592400-1771596000@charleesicecream.com
SUMMARY:February Break: Children's mini ice cream cake-- Minions!!
DESCRIPTION:
URL:https://charleesicecream.com/events-calendar/february-break-childrens-mini-ice-cream-cake-minions/
END:VEVENT
BEGIN:VEVENT
DTSTART;TZID=America/New_York:20260219T130000
DTEND;TZID=America/New_York:20260219T140000
DTSTAMP:20260423T132722
CREATED:20260205T182642Z
LAST-MODIFIED:20260205T182642Z
UID:1755-1771506000-1771509600@charleesicecream.com
SUMMARY:February Break: Build your own ice cream cupcakes!
DESCRIPTION:
URL:https://charleesicecream.com/events-calendar/february-break-build-your-own-ice-cream-cupcakes/
END:VEVENT
BEGIN:VEVENT
DTSTART;TZID=America/New_York:20260217T130000
DTEND;TZID=America/New_York:20260217T140000
DTSTAMP:20260423T132722
CREATED:20260205T182431Z
LAST-MODIFIED:20260205T183132Z
UID:1753-1771333200-1771336800@charleesicecream.com
SUMMARY:February Break Class: Art and Ice Cream
DESCRIPTION:Welcome to February Break: Art and Ice Cream! Join us at Charlee’s Ice Cream on February 17\, 2026 at 1:00 PM (Eastern Time) for a fun-filled class of creativity and delicious treats. Children will design both marble and sponge paintings! We will end our session with their favorite ice cream! See you there!
URL:https://charleesicecream.com/events-calendar/february-break-class-art-and-ice-cream/
END:VEVENT
BEGIN:VEVENT
DTSTART;TZID=America/New_York:20260214T180000
DTEND;TZID=America/New_York:20260214T200000
DTSTAMP:20260423T132722
CREATED:20260205T182250Z
LAST-MODIFIED:20260205T182250Z
UID:1749-1771092000-1771099200@charleesicecream.com
SUMMARY:Valentine's Couples Night!
DESCRIPTION:
URL:https://charleesicecream.com/events-calendar/valentines-couples-night/
END:VEVENT
BEGIN:VEVENT
DTSTART;TZID=America/New_York:20260213T170000
DTEND;TZID=America/New_York:20260213T200000
DTSTAMP:20260423T132722
CREATED:20260205T182052Z
LAST-MODIFIED:20260205T182052Z
UID:1746-1771002000-1771012800@charleesicecream.com
SUMMARY:Galentine's Night!
DESCRIPTION:
URL:https://charleesicecream.com/events-calendar/galentines-night/
END:VEVENT
BEGIN:VEVENT
DTSTART;TZID=America/New_York:20260206T180000
DTEND;TZID=America/New_York:20260206T200000
DTSTAMP:20260423T132722
CREATED:20260205T181803Z
LAST-MODIFIED:20260205T181803Z
UID:1743-1770400800-1770408000@charleesicecream.com
SUMMARY:Ice Cream Pizza Night!
DESCRIPTION:Join us for one night only where we will be selling ice cream pizza! Each slice is made fresh from Sugar Rush Boutique !! You can choose either a chocolate chip cookie base or a brownie base\, then you choose your ice cream and toppings !Come in cozy attire ! This is the ultimate comfort food and we will have a family fun movie playing
URL:https://charleesicecream.com/events-calendar/ice-cream-pizza-night/
END:VEVENT
BEGIN:VEVENT
DTSTART;TZID=America/New_York:20240511T143000
DTEND;TZID=America/New_York:20240511T153000
DTSTAMP:20260423T132722
CREATED:20240424T233849Z
LAST-MODIFIED:20240424T233849Z
UID:1629-1715437800-1715441400@charleesicecream.com
SUMMARY:Mommy & Me Cake Class
DESCRIPTION:Each mommy and me group will create an 8 inch traditional cake. Our staff will guide you through some basic floral designs and cake decorating tips\, but we encourage your creativity! Each cake will consist of one layer of vanilla\, one layer of chocolate\, and chocolate crunchies to the center. Please email us if you want a different style cake (may be subject to added charge). \n***For registration purposes. One “ticket” reserves a seat for mommy and one child. If you have addtional children\, please email us so we can accommodate families! There is no extra charge for added children (unless 5 or more at a table)
URL:https://charleesicecream.com/events-calendar/mommy-me-cake-class/
END:VEVENT
BEGIN:VEVENT
DTSTART;TZID=America/New_York:20240424T130000
DTEND;TZID=America/New_York:20240424T140000
DTSTAMP:20260423T132722
CREATED:20240313T120618Z
LAST-MODIFIED:20240317T124006Z
UID:1602-1713963600-1713967200@charleesicecream.com
SUMMARY:April Break: Swiftie inspired cookie class
DESCRIPTION:Grab your friends and visit us for this awesome event!! Each child will be creating 4 edible friendship bracelet style cookies! All supplies will be provided! \nRegistration at : https://www.eventbrite.com/e/swiftie-inspired-friendship-cookie-class-tickets-862049101067 \n 
URL:https://charleesicecream.com/events-calendar/april-break-swiftie-inspired-cookie-class/
END:VEVENT
BEGIN:VEVENT
DTSTART;TZID=America/New_York:20240423T130000
DTEND;TZID=America/New_York:20240423T140000
DTSTAMP:20260423T132722
CREATED:20240313T142104Z
LAST-MODIFIED:20240313T142104Z
UID:1604-1713877200-1713880800@charleesicecream.com
SUMMARY:April Break: Gnome Event!
DESCRIPTION:Each child will create their own gnome treat and be guided through a gnome craft!! Space is limited! Register early!! \nhttps://www.eventbrite.com/e/april-break-gnome-event-tickets-862108588997?aff=oddtdtcreator \n 
URL:https://charleesicecream.com/events-calendar/april-break-gnome-event/
END:VEVENT
BEGIN:VEVENT
DTSTART;TZID=America/New_York:20240422T130000
DTEND;TZID=America/New_York:20240422T140000
DTSTAMP:20260423T132722
CREATED:20240317T123937Z
LAST-MODIFIED:20240317T123937Z
UID:1617-1713790800-1713794400@charleesicecream.com
SUMMARY:Tween/Teen Mermaid Tail Cake Class
DESCRIPTION:Join us for a more advanced class! This class is great for those over 10 years old who are interested in more of a challenge. Each child will decorate a 6 inch ice cream cake as a mermaid tail\, complete with a cake topper! Box included for travel home. Tickets are limited and must be pre paid.
URL:https://charleesicecream.com/events-calendar/tween-teen-mermaid-tail-cake-class/
END:VEVENT
BEGIN:VEVENT
DTSTART;TZID=America/New_York:20240407T120000
DTEND;TZID=America/New_York:20240407T130000
DTSTAMP:20260423T132722
CREATED:20240220T201621Z
LAST-MODIFIED:20240220T201638Z
UID:1587-1712491200-1712494800@charleesicecream.com
SUMMARY:Spring Birds Party!
DESCRIPTION:Join us to celebrate spring! Each child will be creating a bird seed ornament and will create their own nest sundae!\nWe will have our first session at 12 PM and a second session at 2 PM.\nTo register: email charleesicecream@gmail.com
URL:https://charleesicecream.com/events-calendar/spring-birds-party/
END:VEVENT
BEGIN:VEVENT
DTSTART;TZID=America/New_York:20240326T180000
DTEND;TZID=America/New_York:20240326T193000
DTSTAMP:20260423T132722
CREATED:20240213T144644Z
LAST-MODIFIED:20240213T144644Z
UID:1581-1711476000-1711481400@charleesicecream.com
SUMMARY:Adult Cake Decorating: Bunny Butt Class
DESCRIPTION:
URL:https://charleesicecream.com/events-calendar/adult-cake-decorating-bunny-butt-class/
END:VEVENT
BEGIN:VEVENT
DTSTART;TZID=America/New_York:20240324T110000
DTEND;TZID=America/New_York:20240324T120000
DTSTAMP:20260423T132722
CREATED:20240313T143002Z
LAST-MODIFIED:20240313T143002Z
UID:1613-1711278000-1711281600@charleesicecream.com
SUMMARY:Little Lamb Children's Cake Class
DESCRIPTION:Join us to create a little lamb children’s cake!!  All supplies will be provided!  Children will be guided through the cake and receive a take home box! $14 per child. \nTo Register\, email charleesicecream@gmail.com. \nPre registration/pre payment is required!
URL:https://charleesicecream.com/events-calendar/little-lamb-childrens-cake-class/
END:VEVENT
BEGIN:VEVENT
DTSTART;TZID=America/New_York:20240323T130000
DTEND;TZID=America/New_York:20240323T150000
DTSTAMP:20260423T132722
CREATED:20240313T142715Z
LAST-MODIFIED:20240313T142715Z
UID:1610-1711198800-1711206000@charleesicecream.com
SUMMARY:Easter Bunny Visits Charlee's!
DESCRIPTION:All are welcome!! We will have the Easter Bunny visiting Charlee’s between 1-3 PM.  Bring your cameras!  There is no charge to see the bunny!  We will also have free crafts for children to participate in! \n– 2 or more color gradient used(linear/radial)
URL:https://charleesicecream.com/events-calendar/easter-bunny-visits-charlees/
END:VEVENT
BEGIN:VEVENT
DTSTART;VALUE=DATE:20240323
DTEND;VALUE=DATE:20240324
DTSTAMP:20260423T132722
CREATED:20240313T142349Z
LAST-MODIFIED:20240313T142349Z
UID:1607-1711152000-1711238399@charleesicecream.com
SUMMARY:Charlee's Anniversary Party!!!
DESCRIPTION:Join us for this all day fun event!!! \n11 AM Nailed it! Competition! \n1230 PM: Easter egg hunt for children under 5! \n1 PM: Easter bunny for all ages! \n4 PM: Adult ice cream will begin to be served!! \n  \nPRIZES AND SPECIALS ALL DAY!!!!!!
URL:https://charleesicecream.com/events-calendar/charlees-anniversary-party/
END:VEVENT
BEGIN:VEVENT
DTSTART;TZID=America/New_York:20240316T110000
DTEND;TZID=America/New_York:20240316T120000
DTSTAMP:20260423T132722
CREATED:20240123T205736Z
LAST-MODIFIED:20240123T205736Z
UID:1573-1710586800-1710590400@charleesicecream.com
SUMMARY:Over the Rainbow -Children's Cake Decorating Class
DESCRIPTION:Join us to create an “Over the Rainbow “\nMini cake class ! This is great for children of ALL AGES! Even your little ones will be able\nTo create a beautiful cake !\nEach participating child is $14. Includes all materials needed for creating the cake with a take home box.\nPre registration/ pre payment required.\nEmail charleesicecream@gmail.com
URL:https://charleesicecream.com/events-calendar/over-the-rainbow-childrens-cake-decorating-class/
END:VEVENT
BEGIN:VEVENT
DTSTART;TZID=America/New_York:20240308T160000
DTEND;TZID=America/New_York:20240308T170000
DTSTAMP:20260423T132722
CREATED:20240213T144942Z
LAST-MODIFIED:20240213T144942Z
UID:1583-1709913600-1709917200@charleesicecream.com
SUMMARY:St. Patrick's Day Celebration
DESCRIPTION:
URL:https://charleesicecream.com/events-calendar/st-patricks-day-celebration/
END:VEVENT
BEGIN:VEVENT
DTSTART;TZID=America/New_York:20240223T130000
DTEND;TZID=America/New_York:20240223T140000
DTSTAMP:20260423T132722
CREATED:20240119T131131Z
LAST-MODIFIED:20240119T131131Z
UID:1562-1708693200-1708696800@charleesicecream.com
SUMMARY:February Break Class: Pot O' Gold Cupcakes
DESCRIPTION:Fun for all ages! $14 / 6 cupcakes \nFriday\, February 23\, 2024 @ 1:00 PM \nIncludes all supplies needed to make 6 cupcakes! \nPre registration/Pre Payment is required \nEmail: Charleesicecream@gmail.com
URL:https://charleesicecream.com/events-calendar/february-break-class-pot-o-gold-cupcakes/
END:VEVENT
BEGIN:VEVENT
DTSTART;TZID=America/New_York:20240222T180000
DTEND;TZID=America/New_York:20240222T200000
DTSTAMP:20260423T132722
CREATED:20240122T201536Z
LAST-MODIFIED:20240122T201536Z
UID:1570-1708624800-1708632000@charleesicecream.com
SUMMARY:February Break: Pokemon Trading Event
DESCRIPTION:**FREE EVENT***\nAll are welcome to this trading card event. Bring your Pokemon cards to Charlee’s and trade with other friends! Event starts at 6 and space is limited. No registration necessary.
URL:https://charleesicecream.com/events-calendar/february-break-pokemon-trading-event/
END:VEVENT
BEGIN:VEVENT
DTSTART;TZID=America/New_York:20240222T130000
DTEND;TZID=America/New_York:20240222T140000
DTSTAMP:20260423T132722
CREATED:20240122T190357Z
LAST-MODIFIED:20240122T190357Z
UID:1567-1708606800-1708610400@charleesicecream.com
SUMMARY:February Break Children's Decorating Class: Penguin Cakes
DESCRIPTION:Each Participating child will be guided through all the steps of making a mini Charlee (Penguin) ice cream cake. \n$15 per child. All SUpplies included. \nPre Registration and Pre Payment required. \nEmail: Charleesicecream@gmail.com
URL:https://charleesicecream.com/events-calendar/february-break-childrens-decorating-class-penguin-cakes/
END:VEVENT
BEGIN:VEVENT
DTSTART;TZID=America/New_York:20240221T130000
DTEND;TZID=America/New_York:20240221T140000
DTSTAMP:20260423T132722
CREATED:20240119T130735Z
LAST-MODIFIED:20240119T130735Z
UID:1559-1708520400-1708524000@charleesicecream.com
SUMMARY:February Break Class: Kids Puppy Dog Class
DESCRIPTION:Each Child Will Be Guided Through Decorating a 4 Inch Round Cake! All cakes are made of one layer of vanilla\, One layer of chocolate\, with chocolate crunchies to center. Special dietary needs can be accommodated. \nMust Prepay! $14 Per Child \nEmail Charleesicecream@gmail.com
URL:https://charleesicecream.com/events-calendar/february-break-class-kids-puppy-dog-class/
END:VEVENT
BEGIN:VEVENT
DTSTART;TZID=America/New_York:20240221T110000
DTEND;TZID=America/New_York:20240221T120000
DTSTAMP:20260423T132722
CREATED:20240213T144535Z
LAST-MODIFIED:20240216T143515Z
UID:1577-1708513200-1708516800@charleesicecream.com
SUMMARY:February Break: Friendship Bracelet Cookies
DESCRIPTION:Hey Swifties!\nHow cool are these friendship bracelet cookies?!\nJoin us for this fun all ages workshop at Charlee’s Ice Cream in Camillus.\nWe will decorate 4 sugar cookies with royal icing \, sprinkles \, and candy to look like friendship bracelets.\nThis makes for a fun activity with your bestie!\nEach ticket admits 1 child and 1 assisting adult age 18+.\nAn adult must remain present for the workshop if attending with a child age 8 or younger.\nAge 8 and over may attend without an adult assistant.\nNo refunds\, credits\, or exchanges. In the event you are unable to attend you may request your project as a DIY kit.\nYou may also sell your ticket to another person and please update us with the purchasers name for our guest list.\nIn case of inclement weather\, if a no travel issue is ordered by the governor this class will be rescheduled.\n\nRegister Online at : https://sugarrush.boutique/tickets/ola/services/friendship-bracelet-cookie-workshop?fbclid=IwAR1pfgwh0TetfEDImDrkO_K1wm6P4rzVSjAOBjgr2xkUmXkibb2yHlj0mYU
URL:https://charleesicecream.com/events-calendar/february-break-friendship-bracelet-cookies/
END:VEVENT
BEGIN:VEVENT
DTSTART;TZID=America/New_York:20240207T180000
DTEND;TZID=America/New_York:20240207T200000
DTSTAMP:20260423T132722
CREATED:20240108T220056Z
LAST-MODIFIED:20240108T220206Z
UID:1549-1707328800-1707336000@charleesicecream.com
SUMMARY:Adult Cake Decorating Class
DESCRIPTION:This adult cake decorating class is right on time forValentines Day! You can celebrate with your loved one over a slice of your delicious ice cream cake.\nAdults only. Guests welcome to bring refreshments. Group rate available (above 6 people ).\nMust pre register/pre pay. $28 per person.\nPlease email: Charleesicecream@gmail.com
URL:https://charleesicecream.com/events-calendar/adult-cake-decorating-class/
END:VEVENT
BEGIN:VEVENT
DTSTART;TZID=America/New_York:20240204T130000
DTEND;TZID=America/New_York:20240204T140000
DTSTAMP:20260423T132722
CREATED:20240114T135504Z
LAST-MODIFIED:20240114T135504Z
UID:1555-1707051600-1707055200@charleesicecream.com
SUMMARY:Children's Valentines Cake Class
DESCRIPTION:Space is limited! Register Early!\nEach child will make their own 4 inch heart shaped ice cream cake! We will be designing valentines Monsters! All supplies are provided and children will leave with their ice cream cakes in a take home box!\n$14 per participating child. Must pre pay/pre register. Please email us at charleesicecream@gmail.com to sign up!
URL:https://charleesicecream.com/events-calendar/childrens-valentines-cake-class/
END:VEVENT
BEGIN:VEVENT
DTSTART;TZID=America/New_York:20240127T130000
DTEND;TZID=America/New_York:20240127T140000
DTSTAMP:20260423T132722
CREATED:20240108T163828Z
LAST-MODIFIED:20240108T163828Z
UID:1546-1706360400-1706364000@charleesicecream.com
SUMMARY:Kids Unicorn Cake Class
DESCRIPTION:Each child will create their own unicorn mini ice cream cake. This is a guided class. $18 per child. Must pre register and prepay\, contact charleesicecream@gmail.com
URL:https://charleesicecream.com/events-calendar/kids-unicorn-cake-class/
END:VEVENT
BEGIN:VEVENT
DTSTART;TZID=America/New_York:20240115T130000
DTEND;TZID=America/New_York:20240115T140000
DTSTAMP:20260423T132722
CREATED:20231129T154916Z
LAST-MODIFIED:20231129T154916Z
UID:1524-1705323600-1705327200@charleesicecream.com
SUMMARY:Kids Puppy Dog Decorating Class
DESCRIPTION:Each child will be guided through making a 4 inch puppy dog ice cream cake! Each cake contains a layer of chocolate\, a layer of vanilla\, and chocolate crunchies to the center. Special dietary requests can be accommodated upon request.\nPrepayment of $14 is required for each decorator. Invoices will be sent via our online system\, Pay Anywhere.\nTo register: Please email Charleesicecream@gmail.com
URL:https://charleesicecream.com/events-calendar/kids-puppy-dog-decorating-class/
END:VEVENT
BEGIN:VEVENT
DTSTART;TZID=America/New_York:20231229T160000
DTEND;TZID=America/New_York:20231229T180000
DTSTAMP:20260423T132722
CREATED:20231212T215150Z
LAST-MODIFIED:20231212T215150Z
UID:1542-1703865600-1703872800@charleesicecream.com
SUMMARY:Mario Party Tournament
DESCRIPTION:Best for ages 8-14.  $13 per child and includes pizza\, drink and small ice cream.  Pre registration required.  Email Charleesicecream@gmail.com
URL:https://charleesicecream.com/events-calendar/mario-party-tournament/
END:VEVENT
BEGIN:VEVENT
DTSTART;TZID=America/New_York:20231229T140000
DTEND;TZID=America/New_York:20231229T150000
DTSTAMP:20260423T132722
CREATED:20231212T192532Z
LAST-MODIFIED:20231212T192532Z
UID:1539-1703858400-1703862000@charleesicecream.com
SUMMARY:Charlee's Mario Party!
DESCRIPTION:
URL:https://charleesicecream.com/events-calendar/charlees-mario-party/
END:VEVENT
BEGIN:VEVENT
DTSTART;TZID=America/New_York:20231217T120000
DTEND;TZID=America/New_York:20231217T140000
DTSTAMP:20260423T132722
CREATED:20231127T213652Z
LAST-MODIFIED:20231127T213706Z
UID:1515-1702814400-1702821600@charleesicecream.com
SUMMARY:Holiday Movies and Hot Cocoa
DESCRIPTION:
URL:https://charleesicecream.com/events-calendar/holiday-movies-and-hot-cocoa/
END:VEVENT
END:VCALENDAR